BEGIN:VCALENDAR
VERSION:2.0
PRODID:-//Downtown Albion - ECPv6.15.20//NONSGML v1.0//EN
CALSCALE:GREGORIAN
METHOD:PUBLISH
X-ORIGINAL-URL:https://downtownalbion.com
X-WR-CALDESC:Events for Downtown Albion
REFRESH-INTERVAL;VALUE=DURATION:PT1H
X-Robots-Tag:noindex
X-PUBLISHED-TTL:PT1H
BEGIN:VTIMEZONE
TZID:UTC
BEGIN:STANDARD
TZOFFSETFROM:+0000
TZOFFSETTO:+0000
TZNAME:UTC
DTSTART:20250101T000000
END:STANDARD
END:VTIMEZONE
BEGIN:VEVENT
DTSTART;TZID=UTC:20260421T110000
DTEND;TZID=UTC:20260421T120000
DTSTAMP:20260424T115012
CREATED:20260402T152931Z
LAST-MODIFIED:20260402T152931Z
UID:10001246-1776769200-1776772800@downtownalbion.com
SUMMARY:Spanish 101
DESCRIPTION:Led by Paul Vasquez\, a sign-up sheet is available in-person at Forks Senior Center.
URL:https://downtownalbion.com/event/spanish-101/2026-04-21/
LOCATION:Forks Senior Center\, 101 N Albion Street\, Albion\, MI\, 49224\, United States
CATEGORIES:Education
END:VEVENT
BEGIN:VEVENT
DTSTART;TZID=UTC:20260414T133000
DTEND;TZID=UTC:20260414T133000
DTSTAMP:20260424T115012
CREATED:20260402T152541Z
LAST-MODIFIED:20260402T152541Z
UID:10001243-1776173400-1776173400@downtownalbion.com
SUMMARY:"How to use Google Docs" Presentation
DESCRIPTION:Tech Tutors Mya and Mariell are giving a crash course on how to use Google Docs on April 14th at 1:30pm in the conference room at Forks Senior Center. This presentation is open to the public\, you do not have the be a member of Forks Senior Center in order to participate. Contact Forks Senior Center at (517) 629-3842 to sign up.
URL:https://downtownalbion.com/event/how-to-use-google-docs-presentation/
LOCATION:Forks Senior Center\, 101 N Albion Street\, Albion\, MI\, 49224\, United States
CATEGORIES:Workshop
ATTACH;FMTTYPE=image/jpeg:https://downtownalbion.com/wp-content/uploads/2026/04/google.jpg
END:VEVENT
BEGIN:VEVENT
DTSTART;TZID=UTC:20260414T110000
DTEND;TZID=UTC:20260414T120000
DTSTAMP:20260424T115012
CREATED:20260402T152931Z
LAST-MODIFIED:20260402T152931Z
UID:10001245-1776164400-1776168000@downtownalbion.com
SUMMARY:Spanish 101
DESCRIPTION:Led by Paul Vasquez\, a sign-up sheet is available in-person at Forks Senior Center.
URL:https://downtownalbion.com/event/spanish-101/2026-04-14/
LOCATION:Forks Senior Center\, 101 N Albion Street\, Albion\, MI\, 49224\, United States
CATEGORIES:Education
END:VEVENT
BEGIN:VEVENT
DTSTART;TZID=UTC:20260407T110000
DTEND;TZID=UTC:20260407T120000
DTSTAMP:20260424T115012
CREATED:20260402T152931Z
LAST-MODIFIED:20260402T152931Z
UID:10001244-1775559600-1775563200@downtownalbion.com
SUMMARY:Spanish 101
DESCRIPTION:Led by Paul Vasquez\, a sign-up sheet is available in-person at Forks Senior Center.
URL:https://downtownalbion.com/event/spanish-101/2026-04-07/
LOCATION:Forks Senior Center\, 101 N Albion Street\, Albion\, MI\, 49224\, United States
CATEGORIES:Education
END:VEVENT
END:VCALENDAR