BEGIN:VCALENDAR
VERSION:2.0
PRODID:-//Downtown Albion - ECPv6.15.20//NONSGML v1.0//EN
CALSCALE:GREGORIAN
METHOD:PUBLISH
X-ORIGINAL-URL:https://downtownalbion.com
X-WR-CALDESC:Events for Downtown Albion
REFRESH-INTERVAL;VALUE=DURATION:PT1H
X-Robots-Tag:noindex
X-PUBLISHED-TTL:PT1H
BEGIN:VTIMEZONE
TZID:UTC
BEGIN:STANDARD
TZOFFSETFROM:+0000
TZOFFSETTO:+0000
TZNAME:UTC
DTSTART:20250101T000000
END:STANDARD
END:VTIMEZONE
BEGIN:VEVENT
DTSTART;TZID=UTC:20260410T190000
DTEND;TZID=UTC:20260410T190000
DTSTAMP:20260423T062124
CREATED:20260402T151311Z
LAST-MODIFIED:20260402T151311Z
UID:10001240-1775847600-1775847600@downtownalbion.com
SUMMARY:Fairyland with introduction by author Alysia Abbott
DESCRIPTION:Albion College’s History Department\, in conjunction with the college’s 2026 Yinger Endowed Lecture in the Humanities\, welcomes Alysia Abbott to Albion College and the Bohm Theatre for the Michigan premier of Fairyland\, Friday\, April 10th\, at 7:00 pm.\n\nAlysia is the author of Fairyland: A Memoir of My Father(2013)\, about growing up in the 1970s and 80s in San Francisco as the only child of a single gay man. The 2023 dramatic film adaptation was shown in selected theaters nationally just this past fall. The winner of a number of film festival awards\, Fairyland was also nominated for a 2026 GLAAD Media award for Outstanding Film in Limited Release. Praised as an “unconventional coming-of-age story”\, “a moving\, warmly funny portrait of a bygone era of queer life and liberation” “that is at its very big heart a universal story of family\, love\, staying true to who you are\, and being there for each other when it counts the most”\, Fairyland has been received positively by both reviewers and audiences\, scoring 96% on Rotten Tomatoes’ Tomatometer.\n\nAlysia will introduce the film. This event is free and open to the public. Please join us!
URL:https://downtownalbion.com/event/fairyland-with-introduction-by-author-alysia-abbott/
LOCATION:Bohm Theatre\, 119 S Superior St\, Albion\, MI\, 49224\, United States
CATEGORIES:Community,Free,Movie
ATTACH;FMTTYPE=image/jpeg:https://downtownalbion.com/wp-content/uploads/2026/04/fairy.jpg
END:VEVENT
END:VCALENDAR