BEGIN:VCALENDAR
VERSION:2.0
PRODID:-//Downtown Albion - ECPv6.15.20//NONSGML v1.0//EN
CALSCALE:GREGORIAN
METHOD:PUBLISH
X-ORIGINAL-URL:https://downtownalbion.com
X-WR-CALDESC:Events for Downtown Albion
REFRESH-INTERVAL;VALUE=DURATION:PT1H
X-Robots-Tag:noindex
X-PUBLISHED-TTL:PT1H
BEGIN:VTIMEZONE
TZID:UTC
BEGIN:STANDARD
TZOFFSETFROM:+0000
TZOFFSETTO:+0000
TZNAME:UTC
DTSTART:20250101T000000
END:STANDARD
END:VTIMEZONE
BEGIN:VEVENT
DTSTART;TZID=UTC:20260421T090000
DTEND;TZID=UTC:20260421T160000
DTSTAMP:20260423T115640
CREATED:20260402T164919Z
LAST-MODIFIED:20260402T164919Z
UID:10001412-1776762000-1776787200@downtownalbion.com
SUMMARY:Albion College Senior Showcase and Symposium
DESCRIPTION:See the final works of the Albion College Art Department seniors. \nOpening – April 4th \nReception – April 11th 5PM – 7PM \nGallery Hours: 9AM – 4PM Tuesdays & Thursdays\, 2PM – 8PM Fridays\, 10AM – 2PM Saturday
URL:https://downtownalbion.com/event/albion-college-senior-showcase-and-symposium-2/2026-04-21/
LOCATION:Bobbitt Visual Arts Center
CATEGORIES:Art
END:VEVENT
BEGIN:VEVENT
DTSTART;TZID=UTC:20260418T100000
DTEND;TZID=UTC:20260418T140000
DTSTAMP:20260423T115640
CREATED:20260402T164754Z
LAST-MODIFIED:20260402T164754Z
UID:10001406-1776506400-1776520800@downtownalbion.com
SUMMARY:Albion College Senior Showcase and Symposium
DESCRIPTION:See the final works of the Albion College Art Department seniors. \nOpening – April 4th \nReception – April 11th 5PM – 7PM \nGallery Hours: 9AM – 4PM Tuesdays & Thursdays\, 2PM – 8PM Fridays\, 10AM – 2PM Saturday
URL:https://downtownalbion.com/event/albion-college-senior-showcase-and-symposium/2026-04-18/
LOCATION:Bobbitt Visual Arts Center
CATEGORIES:Art
END:VEVENT
BEGIN:VEVENT
DTSTART;TZID=UTC:20260416T090000
DTEND;TZID=UTC:20260416T160000
DTSTAMP:20260423T115640
CREATED:20260402T164919Z
LAST-MODIFIED:20260402T164919Z
UID:10001411-1776330000-1776355200@downtownalbion.com
SUMMARY:Albion College Senior Showcase and Symposium
DESCRIPTION:See the final works of the Albion College Art Department seniors. \nOpening – April 4th \nReception – April 11th 5PM – 7PM \nGallery Hours: 9AM – 4PM Tuesdays & Thursdays\, 2PM – 8PM Fridays\, 10AM – 2PM Saturday
URL:https://downtownalbion.com/event/albion-college-senior-showcase-and-symposium-2/2026-04-16/
LOCATION:Bobbitt Visual Arts Center
CATEGORIES:Art
END:VEVENT
BEGIN:VEVENT
DTSTART;TZID=UTC:20260414T090000
DTEND;TZID=UTC:20260414T160000
DTSTAMP:20260423T115640
CREATED:20260402T164919Z
LAST-MODIFIED:20260402T164919Z
UID:10001410-1776157200-1776182400@downtownalbion.com
SUMMARY:Albion College Senior Showcase and Symposium
DESCRIPTION:See the final works of the Albion College Art Department seniors. \nOpening – April 4th \nReception – April 11th 5PM – 7PM \nGallery Hours: 9AM – 4PM Tuesdays & Thursdays\, 2PM – 8PM Fridays\, 10AM – 2PM Saturday
URL:https://downtownalbion.com/event/albion-college-senior-showcase-and-symposium-2/2026-04-14/
LOCATION:Bobbitt Visual Arts Center
CATEGORIES:Art
END:VEVENT
BEGIN:VEVENT
DTSTART;TZID=UTC:20260411T170000
DTEND;TZID=UTC:20260411T190000
DTSTAMP:20260423T115640
CREATED:20260402T165054Z
LAST-MODIFIED:20260402T165054Z
UID:10001415-1775926800-1775934000@downtownalbion.com
SUMMARY:Albion College Senior Showcase and Symposium - Opening Reception
DESCRIPTION:
URL:https://downtownalbion.com/event/albion-college-senior-showcase-and-symposium-opening-reception/
LOCATION:Bobbitt Visual Arts Center
CATEGORIES:Art
END:VEVENT
BEGIN:VEVENT
DTSTART;TZID=UTC:20260411T100000
DTEND;TZID=UTC:20260411T140000
DTSTAMP:20260423T115640
CREATED:20260402T164754Z
LAST-MODIFIED:20260402T164754Z
UID:10001405-1775901600-1775916000@downtownalbion.com
SUMMARY:Albion College Senior Showcase and Symposium
DESCRIPTION:See the final works of the Albion College Art Department seniors. \nOpening – April 4th \nReception – April 11th 5PM – 7PM \nGallery Hours: 9AM – 4PM Tuesdays & Thursdays\, 2PM – 8PM Fridays\, 10AM – 2PM Saturday
URL:https://downtownalbion.com/event/albion-college-senior-showcase-and-symposium/2026-04-11/
LOCATION:Bobbitt Visual Arts Center
CATEGORIES:Art
END:VEVENT
BEGIN:VEVENT
DTSTART;TZID=UTC:20260410T140000
DTEND;TZID=UTC:20260410T200000
DTSTAMP:20260423T115640
CREATED:20260402T165007Z
LAST-MODIFIED:20260402T165007Z
UID:10001414-1775829600-1775851200@downtownalbion.com
SUMMARY:Albion College Senior Showcase and Symposium
DESCRIPTION:See the final works of the Albion College Art Department seniors. \nOpening – April 4th \nReception – April 11th 5PM – 7PM \nGallery Hours: 9AM – 4PM Tuesdays & Thursdays\, 2PM – 8PM Fridays\, 10AM – 2PM Saturday
URL:https://downtownalbion.com/event/albion-college-senior-showcase-and-symposium-3/
LOCATION:Bobbitt Visual Arts Center
CATEGORIES:Art
END:VEVENT
BEGIN:VEVENT
DTSTART;TZID=UTC:20260409T090000
DTEND;TZID=UTC:20260409T160000
DTSTAMP:20260423T115640
CREATED:20260402T164919Z
LAST-MODIFIED:20260402T164919Z
UID:10001409-1775725200-1775750400@downtownalbion.com
SUMMARY:Albion College Senior Showcase and Symposium
DESCRIPTION:See the final works of the Albion College Art Department seniors. \nOpening – April 4th \nReception – April 11th 5PM – 7PM \nGallery Hours: 9AM – 4PM Tuesdays & Thursdays\, 2PM – 8PM Fridays\, 10AM – 2PM Saturday
URL:https://downtownalbion.com/event/albion-college-senior-showcase-and-symposium-2/2026-04-09/
LOCATION:Bobbitt Visual Arts Center
CATEGORIES:Art
END:VEVENT
BEGIN:VEVENT
DTSTART;TZID=UTC:20260407T090000
DTEND;TZID=UTC:20260407T160000
DTSTAMP:20260423T115640
CREATED:20260402T164919Z
LAST-MODIFIED:20260402T164919Z
UID:10001408-1775552400-1775577600@downtownalbion.com
SUMMARY:Albion College Senior Showcase and Symposium
DESCRIPTION:See the final works of the Albion College Art Department seniors. \nOpening – April 4th \nReception – April 11th 5PM – 7PM \nGallery Hours: 9AM – 4PM Tuesdays & Thursdays\, 2PM – 8PM Fridays\, 10AM – 2PM Saturday
URL:https://downtownalbion.com/event/albion-college-senior-showcase-and-symposium-2/2026-04-07/
LOCATION:Bobbitt Visual Arts Center
CATEGORIES:Art
END:VEVENT
BEGIN:VEVENT
DTSTART;TZID=UTC:20260404T100000
DTEND;TZID=UTC:20260404T140000
DTSTAMP:20260423T115640
CREATED:20260402T164754Z
LAST-MODIFIED:20260402T164754Z
UID:10001404-1775296800-1775311200@downtownalbion.com
SUMMARY:Albion College Senior Showcase and Symposium
DESCRIPTION:See the final works of the Albion College Art Department seniors. \nOpening – April 4th \nReception – April 11th 5PM – 7PM \nGallery Hours: 9AM – 4PM Tuesdays & Thursdays\, 2PM – 8PM Fridays\, 10AM – 2PM Saturday
URL:https://downtownalbion.com/event/albion-college-senior-showcase-and-symposium/2026-04-04/
LOCATION:Bobbitt Visual Arts Center
CATEGORIES:Art
END:VEVENT
END:VCALENDAR