BEGIN:VCALENDAR
VERSION:2.0
PRODID:-//Downtown Albion - ECPv6.15.20//NONSGML v1.0//EN
CALSCALE:GREGORIAN
METHOD:PUBLISH
X-ORIGINAL-URL:https://downtownalbion.com
X-WR-CALDESC:Events for Downtown Albion
REFRESH-INTERVAL;VALUE=DURATION:PT1H
X-Robots-Tag:noindex
X-PUBLISHED-TTL:PT1H
BEGIN:VTIMEZONE
TZID:UTC
BEGIN:STANDARD
TZOFFSETFROM:+0000
TZOFFSETTO:+0000
TZNAME:UTC
DTSTART:20250101T000000
END:STANDARD
END:VTIMEZONE
BEGIN:VEVENT
DTSTART;TZID=UTC:20260409T100000
DTEND;TZID=UTC:20260409T100000
DTSTAMP:20260423T112003
CREATED:20260402T160944Z
LAST-MODIFIED:20260402T160944Z
UID:10001376-1775728800-1775728800@downtownalbion.com
SUMMARY:Spring Assembly - Albion Area Lifelong Learners
DESCRIPTION:Hear from speaker Larry Bell on “Brewing\, Bicycling\, Trails\, and Life After Beer” as the Albion Area Lifelong Learners’ kick off their spring semester of learning. \nAALL Membership & Registration Information  \nWhile members must be 55 or older\, younger partners are also eligible to join. Annual dues are $30 per person\, with the membership year running from July 1 through June 30 of the following year. Dues are prorated based on when a member joins: \n\n$30 for the full year\n$20 if joining after one academic session\n$10 if joining after two academic sessions\n\nMembers may take one free course per term (fall\, winter\, and spring). Additional courses in the same term cost $10 per course. Some classes may have extra charges for materials or transportation. \nMembers who are unsure whether their dues have been paid for the current year should contact the AALL Registrar at registrar@albionaall.org
URL:https://downtownalbion.com/event/spring-assembly-albion-area-lifelong-learners/
LOCATION:Albion College Wesley Hall
CATEGORIES:Community,Workshop
END:VEVENT
END:VCALENDAR