BEGIN:VCALENDAR
VERSION:2.0
PRODID:-//Downtown Albion - ECPv6.15.20//NONSGML v1.0//EN
CALSCALE:GREGORIAN
METHOD:PUBLISH
X-WR-CALNAME:Downtown Albion
X-ORIGINAL-URL:https://downtownalbion.com
X-WR-CALDESC:Events for Downtown Albion
REFRESH-INTERVAL;VALUE=DURATION:PT1H
X-Robots-Tag:noindex
X-PUBLISHED-TTL:PT1H
BEGIN:VTIMEZONE
TZID:UTC
BEGIN:STANDARD
TZOFFSETFROM:+0000
TZOFFSETTO:+0000
TZNAME:UTC
DTSTART:20250101T000000
END:STANDARD
END:VTIMEZONE
BEGIN:VEVENT
DTSTART;TZID=UTC:20260430T180000
DTEND;TZID=UTC:20260430T190000
DTSTAMP:20260423T063156
CREATED:20260402T131150Z
LAST-MODIFIED:20260402T131216Z
UID:10000886-1777572000-1777575600@downtownalbion.com
SUMMARY:Teen Art Club
DESCRIPTION:Tweens and Teens are invited to TEEN ART CLUB every other Thursday!\nJoin Hunter for a chaotically creative hour in which your craftiness will be put to the test.\nIntended for ages 8 & up  Free and Open to the Community  No library card is necessary.
URL:https://downtownalbion.com/event/teen-art-club/2026-04-30/
LOCATION:Albion District Library
CATEGORIES:Activity,Craft,Youth
ATTACH;FMTTYPE=image/jpeg:https://downtownalbion.com/wp-content/uploads/2026/04/teen-art-club.jpg
END:VEVENT
END:VCALENDAR