BEGIN:VCALENDAR
VERSION:2.0
PRODID:-//Downtown Albion - ECPv6.15.20//NONSGML v1.0//EN
CALSCALE:GREGORIAN
METHOD:PUBLISH
X-WR-CALNAME:Downtown Albion
X-ORIGINAL-URL:https://downtownalbion.com
X-WR-CALDESC:Events for Downtown Albion
REFRESH-INTERVAL;VALUE=DURATION:PT1H
X-Robots-Tag:noindex
X-PUBLISHED-TTL:PT1H
BEGIN:VTIMEZONE
TZID:UTC
BEGIN:STANDARD
TZOFFSETFROM:+0000
TZOFFSETTO:+0000
TZNAME:UTC
DTSTART:20250101T000000
END:STANDARD
END:VTIMEZONE
BEGIN:VEVENT
DTSTART;TZID=UTC:20260411T110000
DTEND;TZID=UTC:20260411T140000
DTSTAMP:20260425T134259
CREATED:20260402T164415Z
LAST-MODIFIED:20260402T164415Z
UID:10001403-1775905200-1775916000@downtownalbion.com
SUMMARY:Acrylic Paint Pouring Workshop
DESCRIPTION:Create your own piece of art work with Sara Neville. Learn beginner and intermediate abstract acrylic paint pouring techniques on canvas. Demonstations and hands-on experience. \n$35 per person (includes art supplies) \nTo enroll contact: saraartist1508@yahoo.com
URL:https://downtownalbion.com/event/acrylic-paint-pouring-workshop/
LOCATION:Albion Arts Center\, 107 E Cass St\, Albion\, MI\, 49224\, United States
CATEGORIES:Activity,Art,Craft,Workshop
ATTACH;FMTTYPE=image/jpeg:https://downtownalbion.com/wp-content/uploads/2026/04/acy.jpg
END:VEVENT
BEGIN:VEVENT
DTSTART;TZID=UTC:20260411T130000
DTEND;TZID=UTC:20260411T160000
DTSTAMP:20260425T134259
CREATED:20260402T130323Z
LAST-MODIFIED:20260402T130323Z
UID:10000878-1775912400-1775923200@downtownalbion.com
SUMMARY:Magic: The Gathering Club
DESCRIPTION:Planeswalkers of all skill levels are invited to play MAGIC: THE GATHERING at ADL! Oh\, and now we’re playing Twice a month! \nThis is an ideal environment to learn the ropes and discover the intricacies of the game. For seasoned veterans\, it’s a chance to test your strategies against an array of opponents. So\, gather your cards\, and join us for an unforgettable journey into the realms of magic and strategy.\nFeel free to bring your deck\, but a limited number of decks and supplies are available to use through a generous gift from MagiKids. Visit magikids.orgto learn more about this incredible 501(c)(3) charity based out of Rochester\, Minnesota.\nIntended for ages 13+  MTG Club will play the listed dates unless otherwise announced  No library card is necessary to play  Free and Open to the public
URL:https://downtownalbion.com/event/magic-the-gathering-club-2/2026-04-11/
LOCATION:Albion District Library
CATEGORIES:Activity,Entertainment
ATTACH;FMTTYPE=image/jpeg:https://downtownalbion.com/wp-content/uploads/2026/04/magic.jpg
END:VEVENT
BEGIN:VEVENT
DTSTART;TZID=UTC:20260411T160000
DTEND;TZID=UTC:20260411T180000
DTSTAMP:20260425T134259
CREATED:20260402T143833Z
LAST-MODIFIED:20260402T143833Z
UID:10001220-1775923200-1775930400@downtownalbion.com
SUMMARY:Loomis Chess Club
DESCRIPTION:Unrated Round Robin “Blitz”\nGame/3 min +2 second increment \nThe 2026 Meetup location for the Loomis Chess Club is Stirling Books & Brew in Albion\, MI\, on the 2nd Saturday of the month at 4pm.  The atmosphere is very warm and inviting and they have a great selection of books\, coffee drinks\, and sweet treats! \nContact:  Nathan Hale 517-581-2195 (text).  Facebook group/Messenger:  Loomis Chess Club of Jackson.   Chess.com Club:  Loomis Chess Club
URL:https://downtownalbion.com/event/loomis-chess-club/2026-04-11/
LOCATION:Stirling Books & Brew
CATEGORIES:Activity
END:VEVENT
END:VCALENDAR