BEGIN:VCALENDAR
VERSION:2.0
PRODID:-//Downtown Albion - ECPv6.15.20//NONSGML v1.0//EN
CALSCALE:GREGORIAN
METHOD:PUBLISH
X-WR-CALNAME:Downtown Albion
X-ORIGINAL-URL:https://downtownalbion.com
X-WR-CALDESC:Events for Downtown Albion
REFRESH-INTERVAL;VALUE=DURATION:PT1H
X-Robots-Tag:noindex
X-PUBLISHED-TTL:PT1H
BEGIN:VTIMEZONE
TZID:UTC
BEGIN:STANDARD
TZOFFSETFROM:+0000
TZOFFSETTO:+0000
TZNAME:UTC
DTSTART:20250101T000000
END:STANDARD
END:VTIMEZONE
BEGIN:VEVENT
DTSTART;TZID=UTC:20260409T180000
DTEND;TZID=UTC:20260409T190000
DTSTAMP:20260425T134401
CREATED:20260402T125301Z
LAST-MODIFIED:20260402T125301Z
UID:10000815-1775757600-1775761200@downtownalbion.com
SUMMARY:Open Study Group
DESCRIPTION:Join the ADL’s biweekly OPEN STUDY GROUP to read and review a variety of essays and articles by radical writers!\nReading selections for each month can be found here https://shorturl.at/sGL6q  Scroll until you find correct date\, and download the reading as a PDF.\n Please read the article(s) and then come prepared for a lively (and respectful) discussion in the library’s Naomi Lane Room. We will reconvene at the same time on every other Thursday.
URL:https://downtownalbion.com/event/open-study-group/2026-04-09/
LOCATION:Albion District Library
CATEGORIES:Activity
ATTACH;FMTTYPE=image/jpeg:https://downtownalbion.com/wp-content/uploads/2026/04/studu.jpg
END:VEVENT
BEGIN:VEVENT
DTSTART;TZID=UTC:20260409T180000
DTEND;TZID=UTC:20260409T193000
DTSTAMP:20260425T134401
CREATED:20250731T190523Z
LAST-MODIFIED:20260402T124357Z
UID:10000734-1775757600-1775763000@downtownalbion.com
SUMMARY:Yarn Craft Club
DESCRIPTION:Bring your interest and be ready to share\, learn\, teach\, show ‘n’ tell\, trade\, and more! Chat with other crafters and enjoy some dedicated craft time. We have supplies\, including yarn\, knitting needles\, crochet hooks\, patterns\, and looms to help get you started.\n\nIdeal for teens and adults  No knitting/crocheting experience necessary  No library card is necessary  For more informattion\, please call the library at 517.629.3993\, email us at programming@albionlibrary.org\, or message us on Facebook
URL:https://downtownalbion.com/event/yarn-craft-club/2026-04-09/
LOCATION:Albion District Library
CATEGORIES:Activity,Art,Craft
ATTACH;FMTTYPE=image/jpeg:https://downtownalbion.com/wp-content/uploads/2025/07/yarn-1.jpg
END:VEVENT
END:VCALENDAR