BEGIN:VCALENDAR
VERSION:2.0
PRODID:-//Downtown Albion - ECPv6.15.20//NONSGML v1.0//EN
CALSCALE:GREGORIAN
METHOD:PUBLISH
X-ORIGINAL-URL:https://downtownalbion.com
X-WR-CALDESC:Events for Downtown Albion
REFRESH-INTERVAL;VALUE=DURATION:PT1H
X-Robots-Tag:noindex
X-PUBLISHED-TTL:PT1H
BEGIN:VTIMEZONE
TZID:UTC
BEGIN:STANDARD
TZOFFSETFROM:+0000
TZOFFSETTO:+0000
TZNAME:UTC
DTSTART:20250101T000000
END:STANDARD
END:VTIMEZONE
BEGIN:VEVENT
DTSTART;TZID=UTC:20260407T170000
DTEND;TZID=UTC:20260407T170000
DTSTAMP:20260425T134426
CREATED:20260402T190540Z
LAST-MODIFIED:20260402T190540Z
UID:10001429-1775581200-1775581200@downtownalbion.com
SUMMARY:Simple Sewing
DESCRIPTION:Learn to sew a simple apron in our next SIMPLE SEWING event on Tuesday\, April 7 at 5:00pm or 6:00pm!\n\n\nAll supplies will be provided\, but this FREE event requires that you save your spot here  https://forms.gle/qPAHMwqe55FaXpv57  Once the class is full\, a waitlist will be created. You will select your preferred timeslot during the signup process.\n\n\nIntended for Adults and Teens (13 & up) | No library card is necessary | Free and open to the public
URL:https://downtownalbion.com/event/simple-sewing/2026-04-07/1/
LOCATION:Albion District Library
CATEGORIES:Activity,Art,Free
ATTACH;FMTTYPE=image/jpeg:https://downtownalbion.com/wp-content/uploads/2026/04/sewing.jpg
END:VEVENT
BEGIN:VEVENT
DTSTART;TZID=UTC:20260407T180000
DTEND;TZID=UTC:20260407T180000
DTSTAMP:20260425T134426
CREATED:20260402T190540Z
LAST-MODIFIED:20260402T190540Z
UID:10001430-1775584800-1775584800@downtownalbion.com
SUMMARY:Simple Sewing
DESCRIPTION:Learn to sew a simple apron in our next SIMPLE SEWING event on Tuesday\, April 7 at 5:00pm or 6:00pm!\n\n\nAll supplies will be provided\, but this FREE event requires that you save your spot here  https://forms.gle/qPAHMwqe55FaXpv57  Once the class is full\, a waitlist will be created. You will select your preferred timeslot during the signup process.\n\n\nIntended for Adults and Teens (13 & up) | No library card is necessary | Free and open to the public
URL:https://downtownalbion.com/event/simple-sewing/2026-04-07/2/
LOCATION:Albion District Library
CATEGORIES:Activity,Art,Free
ATTACH;FMTTYPE=image/jpeg:https://downtownalbion.com/wp-content/uploads/2026/04/sewing.jpg
END:VEVENT
END:VCALENDAR