BEGIN:VCALENDAR
VERSION:2.0
PRODID:-//Downtown Albion - ECPv6.15.20//NONSGML v1.0//EN
CALSCALE:GREGORIAN
METHOD:PUBLISH
X-ORIGINAL-URL:https://downtownalbion.com
X-WR-CALDESC:Events for Downtown Albion
REFRESH-INTERVAL;VALUE=DURATION:PT1H
X-Robots-Tag:noindex
X-PUBLISHED-TTL:PT1H
BEGIN:VTIMEZONE
TZID:UTC
BEGIN:STANDARD
TZOFFSETFROM:+0000
TZOFFSETTO:+0000
TZNAME:UTC
DTSTART:20240101T000000
END:STANDARD
END:VTIMEZONE
BEGIN:VEVENT
DTSTART;TZID=UTC:20250816T090000
DTEND;TZID=UTC:20250816T090000
DTSTAMP:20260426T035351
CREATED:20250731T191935Z
LAST-MODIFIED:20250731T191947Z
UID:10000788-1755334800-1755334800@downtownalbion.com
SUMMARY:Member Morning: Back to School
DESCRIPTION:
URL:https://downtownalbion.com/event/member-morning-back-to-school/
LOCATION:Kids ‘N’ Stuff Children’s Museum\, 301 S Superior St\, Albion\, MI\, 49224\, United States
CATEGORIES:Activity,Youth
END:VEVENT
END:VCALENDAR