BEGIN:VCALENDAR
VERSION:2.0
PRODID:-//Downtown Albion - ECPv6.15.20//NONSGML v1.0//EN
CALSCALE:GREGORIAN
METHOD:PUBLISH
X-WR-CALNAME:Downtown Albion
X-ORIGINAL-URL:https://downtownalbion.com
X-WR-CALDESC:Events for Downtown Albion
REFRESH-INTERVAL;VALUE=DURATION:PT1H
X-Robots-Tag:noindex
X-PUBLISHED-TTL:PT1H
BEGIN:VTIMEZONE
TZID:UTC
BEGIN:STANDARD
TZOFFSETFROM:+0000
TZOFFSETTO:+0000
TZNAME:UTC
DTSTART:20250101T000000
END:STANDARD
END:VTIMEZONE
BEGIN:VEVENT
DTSTART;TZID=UTC:20260426T080000
DTEND;TZID=UTC:20260426T130000
DTSTAMP:20260426T020850
CREATED:20260402T191340Z
LAST-MODIFIED:20260402T191340Z
UID:10001433-1777190400-1777208400@downtownalbion.com
SUMMARY:Pancake Brunch
DESCRIPTION:Menu Includes: \n\nregular or blueberry pancakes (gluten free available by request)\nscrambled eggs\nsausage\napplesauce\norange and apple juice\ncoffee provided by Biggby Coffee\n\nAdults – $9\, Children 4-12 – $7\, Under 4 – Free\, Veterans receive $2 off.
URL:https://downtownalbion.com/event/pancake-brunch/2026-04-26/
LOCATION:American Legion Post 55\, 1230 Edwards St.\, Albion\, MI\, 49224\, United States
CATEGORIES:Food
END:VEVENT
BEGIN:VEVENT
DTSTART;TZID=UTC:20260426T140000
DTEND;TZID=UTC:20260426T160000
DTSTAMP:20260426T020850
CREATED:20260402T150955Z
LAST-MODIFIED:20260402T150955Z
UID:10001239-1777212000-1777219200@downtownalbion.com
SUMMARY:130th Anniversary Celebration - Salem United Church of Christ
DESCRIPTION:Help us celebrate 130 years of being a church\, loving all of God’s people. We have planned 2 events (so far) to celebrate this milestone. On Saturday\, April 25 Alibi will join us for a dance party. The party will start at 4:30 and go until 8:00. Alibi will play from 5:00-7:30. You know this will be fun! On Sunday\, April 26 we will have an open house style ice cream social from 2:00-4:00. This quieter celebration will provide opportunities for conversation as we enjoy a sundae buffet. Please share the plans and encourage everyone with any connection whatsoever to Salem to come celebrate with us! Come to one\, or come to both parties!
URL:https://downtownalbion.com/event/130th-anniversary-celebration-salem-united-church-of-christ/2026-04-26/
LOCATION:Salem United Church of Christ\, 113 W Pine St\, Albion\, MI\, 49224\, United States
CATEGORIES:Celebration
END:VEVENT
END:VCALENDAR