BEGIN:VCALENDAR
VERSION:2.0
PRODID:-//Downtown Albion - ECPv6.15.20//NONSGML v1.0//EN
CALSCALE:GREGORIAN
METHOD:PUBLISH
X-WR-CALNAME:Downtown Albion
X-ORIGINAL-URL:https://downtownalbion.com
X-WR-CALDESC:Events for Downtown Albion
REFRESH-INTERVAL;VALUE=DURATION:PT1H
X-Robots-Tag:noindex
X-PUBLISHED-TTL:PT1H
BEGIN:VTIMEZONE
TZID:UTC
BEGIN:STANDARD
TZOFFSETFROM:+0000
TZOFFSETTO:+0000
TZNAME:UTC
DTSTART:20250101T000000
END:STANDARD
END:VTIMEZONE
BEGIN:VEVENT
DTSTART;TZID=UTC:20260424T053000
DTEND;TZID=UTC:20260424T053000
DTSTAMP:20260424T023040
CREATED:20260402T133708Z
LAST-MODIFIED:20260402T133708Z
UID:10000925-1777008600-1777008600@downtownalbion.com
SUMMARY:Functional Fitness
DESCRIPTION:Members and non-members are welcome! Reserve your class time by calling or texting us at 517-630-1502 or stopping by the front desk during staffed hours. $8 for both members and guests. For your first class with us\, please arrive 10-15 minutes early.
URL:https://downtownalbion.com/event/functional-fitness/2026-04-24/
LOCATION:The Body Shop Albion\, United States
CATEGORIES:Fitness
END:VEVENT
BEGIN:VEVENT
DTSTART;TZID=UTC:20260424T183000
DTEND;TZID=UTC:20260424T183000
DTSTAMP:20260424T023040
CREATED:20260402T190246Z
LAST-MODIFIED:20260402T190246Z
UID:10001428-1777055400-1777055400@downtownalbion.com
SUMMARY:Run the Rock - Run Albion 5K
DESCRIPTION:“The Rock” is at the center of Albion College’s campus located on the Quad.  The Run the Rockevent passes right by and even though you’ll be going by so fast to see how many layers of paint make the rock what it is today\, you’ll be able to feel the history that each layer brings to what makes Albion College special. \nEntry fee: Fee is $30 until Thursday\, 4/23. Fee is $40 on race day with no swag guarantee.  \n5K Run/Walk. The 5K is open to strollers and dogs. Kids Fun Run is free. \nPacket Pickup: 5:00pm to 6:00pm \nRace Start: 6:30pm
URL:https://downtownalbion.com/event/run-the-rock-run-albion-5k/
LOCATION:Downtown Albion
CATEGORIES:Activity
ATTACH;FMTTYPE=image/jpeg:https://downtownalbion.com/wp-content/uploads/2018/09/run-albion-da-e1562011710497.jpg
END:VEVENT
BEGIN:VEVENT
DTSTART;TZID=UTC:20260424T183000
DTEND;TZID=UTC:20260424T200000
DTSTAMP:20260424T023040
CREATED:20260402T140913Z
LAST-MODIFIED:20260402T140913Z
UID:10001142-1777055400-1777060800@downtownalbion.com
SUMMARY:Friday Trivia Night at Stirling
DESCRIPTION:Friday Trivia is back every week at Stirling for 2026! Come alone and join a team\, or bring your whole team!\nPizza available by the slice!
URL:https://downtownalbion.com/event/friday-trivia-night-at-stirling/2026-04-24/
LOCATION:Stirling Books & Brew
CATEGORIES:Activity,Entertainment
ATTACH;FMTTYPE=image/jpeg:https://downtownalbion.com/wp-content/uploads/2026/04/trivia.jpg
END:VEVENT
BEGIN:VEVENT
DTSTART;TZID=UTC:20260424T210000
DTEND;TZID=UTC:20260424T230000
DTSTAMP:20260424T023040
CREATED:20260402T153810Z
LAST-MODIFIED:20260402T153810Z
UID:10001319-1777064400-1777071600@downtownalbion.com
SUMMARY:Game Night - Albion Moose Members & Guests
DESCRIPTION:We might play dominos\, 7’s\, Five Crowns or run the horses… either way\, its always a great time!*For members and qualified guests \nContact Albion Moose for more information. \n517-629-4875 \nlodge406@mooseunits.org \n 
URL:https://downtownalbion.com/event/game-night-albion-moose-members-guests/2026-04-24/
LOCATION:Albion Moose
CATEGORIES:Membership Event
END:VEVENT
END:VCALENDAR