BEGIN:VCALENDAR
VERSION:2.0
PRODID:-//Downtown Albion - ECPv6.15.20//NONSGML v1.0//EN
CALSCALE:GREGORIAN
METHOD:PUBLISH
X-WR-CALNAME:Downtown Albion
X-ORIGINAL-URL:https://downtownalbion.com
X-WR-CALDESC:Events for Downtown Albion
REFRESH-INTERVAL;VALUE=DURATION:PT1H
X-Robots-Tag:noindex
X-PUBLISHED-TTL:PT1H
BEGIN:VTIMEZONE
TZID:UTC
BEGIN:STANDARD
TZOFFSETFROM:+0000
TZOFFSETTO:+0000
TZNAME:UTC
DTSTART:20250101T000000
END:STANDARD
END:VTIMEZONE
BEGIN:VEVENT
DTSTART;TZID=UTC:20260422T120000
DTEND;TZID=UTC:20260422T130000
DTSTAMP:20260422T015654
CREATED:20260402T160540Z
LAST-MODIFIED:20260402T160540Z
UID:10001366-1776859200-1776862800@downtownalbion.com
SUMMARY:Real to Reel | ADL's Weekly Documentary Series
DESCRIPTION:You’re invited to REAL TO REEL\, our free weekly documentary series. Coffee and cookies are provided\, but you’re more than welcome to bring your own lunch. ADL’s Real 2 Reel Documentary series is free and open to the public. No library card is necessary.
URL:https://downtownalbion.com/event/real-to-reel-adls-weekly-documentary-series/2026-04-22/
LOCATION:Albion District Library
CATEGORIES:Entertainment,Free,Movie
END:VEVENT
BEGIN:VEVENT
DTSTART;TZID=UTC:20260422T160000
DTEND;TZID=UTC:20260422T173000
DTSTAMP:20260422T015654
CREATED:20260402T143211Z
LAST-MODIFIED:20260402T143211Z
UID:10001212-1776873600-1776879000@downtownalbion.com
SUMMARY:Crochet Club
DESCRIPTION:Join the Crochet Club at Stirling Books & Brew monthly from 4-5:30pm on the second and the fourth Wednesday of the month.\nAll levels of experience are welcome! Once you start crocheting we know you’ll be hooked!
URL:https://downtownalbion.com/event/crochet-club-2/2026-04-22/
LOCATION:Stirling Books & Brew
CATEGORIES:Activity,Craft
ATTACH;FMTTYPE=image/jpeg:https://downtownalbion.com/wp-content/uploads/2026/04/crochet.jpg
END:VEVENT
BEGIN:VEVENT
DTSTART;TZID=UTC:20260422T180000
DTEND;TZID=UTC:20260422T180000
DTSTAMP:20260422T015654
CREATED:20260402T134747Z
LAST-MODIFIED:20260402T134747Z
UID:10000944-1776880800-1776880800@downtownalbion.com
SUMMARY:Zumba
DESCRIPTION:Members and non-members are welcome! Reserve your class time by calling or texting us at 517-630-1502 or stopping by the front desk during staffed hours. $8 for both members and guests. For your first class with us\, please arrive 10-15 minutes early.
URL:https://downtownalbion.com/event/zumba-3/2026-04-22/
LOCATION:The Body Shop Albion\, United States
CATEGORIES:Fitness
END:VEVENT
BEGIN:VEVENT
DTSTART;TZID=UTC:20260422T180000
DTEND;TZID=UTC:20260422T180000
DTSTAMP:20260422T015654
CREATED:20260402T140258Z
LAST-MODIFIED:20260402T140258Z
UID:10001103-1776880800-1776880800@downtownalbion.com
SUMMARY:Cardio Drumming
DESCRIPTION:A fun paced workout that uses drumsticks\, an exercise ball\, and a bucket to give you a sweaty and empowering experience. \nJoin the Y for Albion Recreation – all group fitness classes are free to Albion residents.
URL:https://downtownalbion.com/event/cardio-drumming/2026-04-22/
LOCATION:Marshall Opportunity High School\, 225 E Waton St\, Albion\, MI\, 49224\, United States
CATEGORIES:Fitness
END:VEVENT
BEGIN:VEVENT
DTSTART;TZID=UTC:20260422T180000
DTEND;TZID=UTC:20260422T230000
DTSTAMP:20260422T015654
CREATED:20260402T153600Z
LAST-MODIFIED:20260402T153621Z
UID:10001279-1776880800-1776898800@downtownalbion.com
SUMMARY:Open Pool - Albion Moose Members & Guests
DESCRIPTION:Open pool at the Moose Lodge!*For members and qualified guests\n\nContact the Albion Moose at 517-629-4875 or lodge406@mooseunits.org for more information.
URL:https://downtownalbion.com/event/open-pool/2026-04-22/
LOCATION:Albion Moose
CATEGORIES:Activity,Membership Event
END:VEVENT
END:VCALENDAR