BEGIN:VCALENDAR
VERSION:2.0
PRODID:-//Downtown Albion - ECPv6.15.18//NONSGML v1.0//EN
CALSCALE:GREGORIAN
METHOD:PUBLISH
X-WR-CALNAME:Downtown Albion
X-ORIGINAL-URL:https://downtownalbion.com
X-WR-CALDESC:Events for Downtown Albion
REFRESH-INTERVAL;VALUE=DURATION:PT1H
X-Robots-Tag:noindex
X-PUBLISHED-TTL:PT1H
BEGIN:VTIMEZONE
TZID:UTC
BEGIN:STANDARD
TZOFFSETFROM:+0000
TZOFFSETTO:+0000
TZNAME:UTC
DTSTART:20250101T000000
END:STANDARD
END:VTIMEZONE
BEGIN:VEVENT
DTSTART;TZID=UTC:20260421T090000
DTEND;TZID=UTC:20260421T090000
DTSTAMP:20260421T102540
CREATED:20260402T135352Z
LAST-MODIFIED:20260402T135852Z
UID:10000947-1776762000-1776762000@downtownalbion.com
SUMMARY:Walk & Talk
DESCRIPTION:Join the Y for Albion Recreation walk & talk – a nice walk while discussing topics center around community. \nAll group fitness classes are free to Albion residents.
URL:https://downtownalbion.com/event/walk-talk/2026-04-21/
LOCATION:Marshall Opportunity High School\, 225 E Waton St\, Albion\, MI\, 49224\, United States
CATEGORIES:Fitness
END:VEVENT
BEGIN:VEVENT
DTSTART;TZID=UTC:20260421T090000
DTEND;TZID=UTC:20260421T160000
DTSTAMP:20260421T102540
CREATED:20260402T164919Z
LAST-MODIFIED:20260402T164919Z
UID:10001412-1776762000-1776787200@downtownalbion.com
SUMMARY:Albion College Senior Showcase and Symposium
DESCRIPTION:See the final works of the Albion College Art Department seniors. \nOpening – April 4th \nReception – April 11th 5PM – 7PM \nGallery Hours: 9AM – 4PM Tuesdays & Thursdays\, 2PM – 8PM Fridays\, 10AM – 2PM Saturday
URL:https://downtownalbion.com/event/albion-college-senior-showcase-and-symposium-2/2026-04-21/
LOCATION:Bobbitt Visual Arts Center
CATEGORIES:Art
END:VEVENT
BEGIN:VEVENT
DTSTART;TZID=UTC:20260421T093000
DTEND;TZID=UTC:20260421T093000
DTSTAMP:20260421T102540
CREATED:20260402T135624Z
LAST-MODIFIED:20260402T135737Z
UID:10000990-1776763800-1776763800@downtownalbion.com
SUMMARY:Silverstars
DESCRIPTION:Join the Y for Albion Recreation classes including Silverstars\, a guided low-impact workout using hand weights\, bands\, and balls. \nAll group fitness classes are free to Albion residents.
URL:https://downtownalbion.com/event/silverstars/2026-04-21/
LOCATION:Marshall Opportunity High School\, 225 E Waton St\, Albion\, MI\, 49224\, United States
CATEGORIES:Fitness
END:VEVENT
BEGIN:VEVENT
DTSTART;TZID=UTC:20260421T100000
DTEND;TZID=UTC:20260421T104500
DTSTAMP:20260421T102540
CREATED:20260402T125535Z
LAST-MODIFIED:20260402T125535Z
UID:10000821-1776765600-1776768300@downtownalbion.com
SUMMARY:Wiggle Worms Storytime
DESCRIPTION:Dance on down the library on Tuesday mornings at 10:00am for WIGGLE WORMS!\nWiggle Worms will include a fun\, age-appropriate Storytime filled with song and dance (and wiggling)! Parents and caregivers are invited to participate\, of course\, but there’ll also be free coffee for grownups to enjoy while chatting with other adults.\nWiggle Worms is FREE and open to caregivers with children ages 0—2.
URL:https://downtownalbion.com/event/wiggle-worms-storytime/2026-04-21/
LOCATION:Albion District Library
CATEGORIES:Education,Youth
ATTACH;FMTTYPE=image/jpeg:https://downtownalbion.com/wp-content/uploads/2026/04/wiggle.jpg
END:VEVENT
BEGIN:VEVENT
DTSTART;TZID=UTC:20260421T110000
DTEND;TZID=UTC:20260421T120000
DTSTAMP:20260421T102540
CREATED:20260402T152931Z
LAST-MODIFIED:20260402T152931Z
UID:10001246-1776769200-1776772800@downtownalbion.com
SUMMARY:Spanish 101
DESCRIPTION:Led by Paul Vasquez\, a sign-up sheet is available in-person at Forks Senior Center.
URL:https://downtownalbion.com/event/spanish-101/2026-04-21/
LOCATION:Forks Senior Center\, 101 N Albion Street\, Albion\, MI\, 49224\, United States
CATEGORIES:Education
END:VEVENT
BEGIN:VEVENT
DTSTART;TZID=UTC:20260421T140000
DTEND;TZID=UTC:20260421T140000
DTSTAMP:20260421T102540
CREATED:20260402T150037Z
LAST-MODIFIED:20260402T150037Z
UID:10001234-1776780000-1776780000@downtownalbion.com
SUMMARY:Gone with the Wind (Part 2) - Senior Cinema Free Film Series
DESCRIPTION:Join us for our free Senior Cinema film series made possible by the senior milage. Add a small Combo popcorn and drink for just $5. \nThis showing will be part 2 of Gone with the Wind.
URL:https://downtownalbion.com/event/gone-with-the-wind-part-2-senior-cinema-free-film-series/
LOCATION:Bohm Theatre\, 119 S Superior St\, Albion\, MI\, 49224\, United States
CATEGORIES:Free,Movie
ATTACH;FMTTYPE=image/jpeg:https://downtownalbion.com/wp-content/uploads/2026/04/cienma.jpg
END:VEVENT
BEGIN:VEVENT
DTSTART;TZID=UTC:20260421T150000
DTEND;TZID=UTC:20260421T170000
DTSTAMP:20260421T102540
CREATED:20260402T155412Z
LAST-MODIFIED:20260402T155412Z
UID:10001330-1776783600-1776790800@downtownalbion.com
SUMMARY:Drive-Through Food Distribution
DESCRIPTION:Free food distribution through the Community Table of Albion\, a program of the Albion Health Care Alliance. \nQuestions asked – name\, zip code\, household size. \nParticipants DO NOT need to provide a driver’s license\, proof of income\, or any other documentation.  \nEnter the parking lot using the west entrance (look for the Community Table of Albion sign).
URL:https://downtownalbion.com/event/drive-through-food-distribution/2026-04-21/
LOCATION:Marshall Opportunity High School\, 225 E Waton St\, Albion\, MI\, 49224\, United States
CATEGORIES:Free,Resources
ATTACH;FMTTYPE=image/jpeg:https://downtownalbion.com/wp-content/uploads/2026/04/food-dis.jpg
END:VEVENT
BEGIN:VEVENT
DTSTART;TZID=UTC:20260421T170000
DTEND;TZID=UTC:20260421T200000
DTSTAMP:20260421T102540
CREATED:20260402T130323Z
LAST-MODIFIED:20260402T130323Z
UID:10000879-1776790800-1776801600@downtownalbion.com
SUMMARY:Magic: The Gathering Club
DESCRIPTION:Planeswalkers of all skill levels are invited to play MAGIC: THE GATHERING at ADL! Oh\, and now we’re playing Twice a month! \nThis is an ideal environment to learn the ropes and discover the intricacies of the game. For seasoned veterans\, it’s a chance to test your strategies against an array of opponents. So\, gather your cards\, and join us for an unforgettable journey into the realms of magic and strategy.\nFeel free to bring your deck\, but a limited number of decks and supplies are available to use through a generous gift from MagiKids. Visit magikids.orgto learn more about this incredible 501(c)(3) charity based out of Rochester\, Minnesota.\nIntended for ages 13+  MTG Club will play the listed dates unless otherwise announced  No library card is necessary to play  Free and Open to the public
URL:https://downtownalbion.com/event/magic-the-gathering-club-2/2026-04-21/
LOCATION:Albion District Library
CATEGORIES:Activity,Entertainment
ATTACH;FMTTYPE=image/jpeg:https://downtownalbion.com/wp-content/uploads/2026/04/magic.jpg
END:VEVENT
BEGIN:VEVENT
DTSTART;TZID=UTC:20260421T173000
DTEND;TZID=UTC:20260421T173000
DTSTAMP:20260421T102540
CREATED:20260402T133811Z
LAST-MODIFIED:20260402T133811Z
UID:10000932-1776792600-1776792600@downtownalbion.com
SUMMARY:Functional Fitness
DESCRIPTION:Members and non-members are welcome! Reserve your class time by calling or texting us at 517-630-1502 or stopping by the front desk during staffed hours. $8 for both members and guests. For your first class with us\, please arrive 10-15 minutes early.
URL:https://downtownalbion.com/event/functional-fitness-2/2026-04-21/
LOCATION:The Body Shop Albion\, United States
CATEGORIES:Fitness
END:VEVENT
END:VCALENDAR